BEGIN:VCALENDAR
VERSION:2.0
PRODID:-//wp-events-plugin.com//7.2.3.1//EN
TZID:Europe/Amsterdam
X-WR-TIMEZONE:Europe/Amsterdam
BEGIN:VEVENT
UID:17@scau.nl
DTSTART;TZID=Europe/Amsterdam:20180318T143000
DTEND;TZID=Europe/Amsterdam:20180318T143000
DTSTAMP:20180319T090632Z
URL:https://www.scau.nl/agenda/vierveijzer-zanggitaar-zonder-genade/
SUMMARY:Elke Vierveijzer met ‘Zonder Genade’
DESCRIPTION:[table type="table-hover"]\n\n\n\nDe muzikale poëzie van Elke 
 Vierveijzer\n\nDe Stichting Culturele Activiteiten Uithoorn (SCAU) heeft i
 n de vijfentwintig jaar van haar bestaan steeds graag jonge aankomende pod
 iumtalenten geprogrammeerd. Zondag was het voorbeeld van zo’n talent te 
 zien en te beluisteren in de Thamerkerk. Elke Vierveijzer had nog in 2014 
 maar net de Koningstheateracademie voor kleinkunst in Den Bosch verlaten\,
  toen ze\, in 2015\, al finalist werd in het Amsterdam Kleinkunstfestival.
  Het jaar daarna kreeg ze de publieksprijs tijdens het Rabo Talenten Conco
 urs.\n\nDat ze die prijzen heeft verdiend\, kon de veelzijdige kleinkunste
 nares zondagmiddag in de volle Thamerkerk bewijzen. Elke Vierveijzer zong 
 een prachtige selectie van Nederlandstalige liedjes die ze zelf heeft gesc
 hreven. Of ze gebruikte de poëtische teksten van haar bewonderde voorbeel
 d Maarten van Roozendaal. Het kan tegenzitten in het leven. Pech en ongeno
 egen leveren dan stof voor een schurend liedje of een lied “zonder genad
 e”\, zoals ook de titel was van haar optreden in Uithoorn.\n\nOriginele 
 teksten\n\nMaar ook kan mededogen de inspiratiebron zijn voor een lied\, z
 oals het originele\, enigszins zuurzoete maar toch ook grappige liedje ove
 r de zwerver op het Centraal Station die met zijn onafscheidelijke “huis
 dier “\, een rat\, in de voering van zijn jas het ziekenhuis in ging.\n\
 nElke Vierveijzer kijkt met een open filosofische blik naar mensen en naar
  situaties uit het dagelijks leven. In tekst en muziek geeft ze met fantas
 ie vorm aan haar poëtische en muzikale gedachten daarover. Dat deed ze he
 lder zingend en gitaarspelend\, met Michiel Wetzer aan de vleugel als zeer
  muzikaal en stuwend pianistisch begeleider zonder bladmuziek op zijn pian
 olessenaar.\n\nHet SCAU-publiek genoot en het was begrijpelijk dat de toeg
 ift een zachtmoedig liedje op tekst van Maarten van Roozendaal werd.\n\nZo
 ndag 22 april geeft Hannes Minnaar\, die als begaafd pianist inmiddels in 
 gerenommeerde series van het Concertgebouw optreedt\, bij de SCAU een reci
 tal in de Thamerkerk. Informatie hierover is te vinden op de website van d
 e SCAU\, www.scau.nl\, waarop digitaal tevens kaarten kunnen worden gekoch
 t.\n\n\n\n[/table]
ATTACH;FMTTYPE=image/jpeg:https://www.scau.nl/wp-content/uploads/2017/04/1
 8-03-2018.jpg
CATEGORIES:Seizoen 2017-2018
END:VEVENT
BEGIN:VTIMEZONE
TZID:Europe/Amsterdam
X-LIC-LOCATION:Europe/Amsterdam
BEGIN:STANDARD
DTSTART:20171029T020000
TZOFFSETFROM:+0200
TZOFFSETTO:+0100
TZNAME:CET
END:STANDARD
END:VTIMEZONE
END:VCALENDAR